BEGIN:VCALENDAR
VERSION:2.0
PRODID:icalendar-ruby
CALSCALE:GREGORIAN
METHOD:PUBLISH
BEGIN:VEVENT
DTSTAMP:20260420T234048Z
UID:12-942050@fbcsilvis.com
DTSTART:20261008T000000Z
DTEND:20261008T003000Z
CLASS:PUBLIC
CREATED:20260420T172022
DESCRIPTION:
LAST-MODIFIED:20260420T172022
LOCATION:
SUMMARY:Bible Study
URL;VALUE=URI:https://fbcsilvis.com/events/bible-study/2026-10-07
ATTACH;FILENAME=Bible-Study.png;FMTTYPE=image/png:https://dq5pwpg1q8ru0.clo
 udfront.net/2025/02/04/20/24/51/6eac6407-0690-4f72-aa29-b171d93d8912/Bible
 -Study.png
END:VEVENT
END:VCALENDAR
