BEGIN:VCALENDAR
VERSION:2.0
PRODID:icalendar-ruby
CALSCALE:GREGORIAN
METHOD:PUBLISH
BEGIN:VEVENT
DTSTAMP:20260424T072647Z
UID:12-958660@fbcsilvis.com
DTSTART:20270121T010000Z
DTEND:20270121T013000Z
CLASS:PUBLIC
CREATED:20260423T214905
DESCRIPTION:
LAST-MODIFIED:20260423T214905
LOCATION:
SUMMARY:Bible Study
URL;VALUE=URI:https://fbcsilvis.com/events/bible-study/2027-01-20
ATTACH;FILENAME=Bible-Study.png;FMTTYPE=image/png:https://dq5pwpg1q8ru0.clo
 udfront.net/2025/02/04/20/24/51/6eac6407-0690-4f72-aa29-b171d93d8912/Bible
 -Study.png
END:VEVENT
END:VCALENDAR
