BEGIN:VCALENDAR
VERSION:2.0
PRODID:icalendar-ruby
CALSCALE:GREGORIAN
METHOD:PUBLISH
BEGIN:VEVENT
DTSTAMP:20260423T121014Z
UID:32-919317@fbcsilvis.com
DTSTART:20260424T230000Z
DTEND:20260425T010000Z
CLASS:PUBLIC
CREATED:20260416T110003
DESCRIPTION: Dust off some pearls\, grab a friend or family member\, and j
 oin us for our Spring Ladies’ Dinner! We hope you’ll be able to join u
 s for a lovely evening of delicious food\, friendship\, and encouragement 
 from God’s Word. Women of all ages are welcome. Cost: Adults $13\, Child
 ren 10 and under $8. There is a sign up sheet in the church foyer.
LAST-MODIFIED:20260416T110003
LOCATION:First Baptist Church (1101 10th Ave.\, Silvis\, IL 61282)
SUMMARY:Girls in Pearls
URL;VALUE=URI:https://fbcsilvis.com/events/girls-in-pearls/2026-04-24
ATTACH;FILENAME=Ladies-Dinner-Website-Event-Tile.png;FMTTYPE=image/png:http
 s://dq5pwpg1q8ru0.cloudfront.net/2026/04/16/16/00/03/a4df2b88-b36a-4fe8-a8
 57-d5f8862e61f3/Ladies-Dinner-Website-Event-Tile.png
END:VEVENT
END:VCALENDAR
