BEGIN:VCALENDAR
VERSION:2.0
PRODID:icalendar-ruby
CALSCALE:GREGORIAN
METHOD:PUBLISH
BEGIN:VEVENT
DTSTAMP:20260420T234521Z
UID:8-941842@fbcsilvis.com
DTSTART:20261014T233000Z
DTEND:20261015T000000Z
CLASS:PUBLIC
CREATED:20260420T172021
DESCRIPTION:
LAST-MODIFIED:20260420T172021
LOCATION:
SUMMARY:Prayer
URL;VALUE=URI:https://fbcsilvis.com/events/prayer/2026-10-14
ATTACH;FILENAME=Prayer2.png;FMTTYPE=image/png:https://dq5pwpg1q8ru0.cloudfr
 ont.net/2025/02/04/20/24/04/19378369-ee87-4bde-bf5a-de637d52172c/Prayer2.p
 ng
END:VEVENT
END:VCALENDAR
