BEGIN:VCALENDAR
VERSION:2.0
PRODID:icalendar-ruby
CALSCALE:GREGORIAN
METHOD:PUBLISH
BEGIN:VEVENT
DTSTAMP:20260423T193206Z
UID:8-955609@fbcsilvis.com
DTSTART:20261203T003000Z
DTEND:20261203T010000Z
CLASS:PUBLIC
CREATED:20260423T130550
DESCRIPTION:
LAST-MODIFIED:20260423T130550
LOCATION:
SUMMARY:Prayer
URL;VALUE=URI:https://fbcsilvis.com/events/prayer/2026-12-02
ATTACH;FILENAME=Prayer2.png;FMTTYPE=image/png:https://dq5pwpg1q8ru0.cloudfr
 ont.net/2025/02/04/20/24/04/19378369-ee87-4bde-bf5a-de637d52172c/Prayer2.p
 ng
END:VEVENT
END:VCALENDAR
