BEGIN:VCALENDAR
VERSION:2.0
PRODID:icalendar-ruby
CALSCALE:GREGORIAN
METHOD:PUBLISH
BEGIN:VEVENT
DTSTAMP:20260424T060301Z
UID:8-958400@fbcsilvis.com
DTSTART:20270121T003000Z
DTEND:20270121T010000Z
CLASS:PUBLIC
CREATED:20260423T214904
DESCRIPTION:
LAST-MODIFIED:20260423T214904
LOCATION:
SUMMARY:Prayer
URL;VALUE=URI:https://fbcsilvis.com/events/prayer/2027-01-20
ATTACH;FILENAME=Prayer2.png;FMTTYPE=image/png:https://dq5pwpg1q8ru0.cloudfr
 ont.net/2025/02/04/20/24/04/19378369-ee87-4bde-bf5a-de637d52172c/Prayer2.p
 ng
END:VEVENT
END:VCALENDAR
