BEGIN:VCALENDAR
VERSION:2.0
PRODID:icalendar-ruby
CALSCALE:GREGORIAN
METHOD:PUBLISH
BEGIN:VEVENT
DTSTAMP:20260425T033947Z
UID:17-964495@fbcsilvis.com
DTSTART:20261025T143000Z
DTEND:20261025T153000Z
CLASS:PUBLIC
CREATED:20260424T212128
DESCRIPTION:High school students up through the oldest adult are invited to
  join us for our Sunday classes.
LAST-MODIFIED:20260424T212128
LOCATION:
SUMMARY:Sunday Classes
URL;VALUE=URI:https://fbcsilvis.com/events/sunday-classes/2026-10-25
ATTACH;FILENAME=Sunday-Classes.png;FMTTYPE=image/png:https://dq5pwpg1q8ru0.
 cloudfront.net/2025/02/05/20/58/17/ef65d55f-f151-4aa4-b0bf-2d354ea1a166/Su
 nday-Classes.png
END:VEVENT
END:VCALENDAR
